BEGIN:VCALENDAR
VERSION:2.0
PRODID:-//wp-events-plugin.com//7.2.3.1//EN
TZID:Europe/Berlin
X-WR-TIMEZONE:Europe/Berlin
BEGIN:VEVENT
UID:12154@tsg-maxdorf.de
DTSTART;TZID=Europe/Berlin:20250919T183000
DTEND;TZID=Europe/Berlin:20250919T200000
DTSTAMP:20250712T132815Z
URL:https://www.tsg-maxdorf.de/events/thai-chi-fuer-anfaenger-2025-09-19/
SUMMARY:Thai Chi für Anfänger
DESCRIPTION:Im neuen Kurs unterrichten wir das Fünf-Elemente-Qigong des Wu
 dang-Taoismus. Das Wudang Fünf-Elemente-Qigong stammt aus den daoistische
 n Traditionen des Wudang-Gebirges in China. Es verbindet langsame\, fließ
 ende Bewegungen mit tiefer Atmung und mentaler Konzentration. Die Übungen
  basieren auf den fünf Elementen – Holz\, Feuer\, Erde\, Metall und Was
 ser – die in der chinesischen Philosophie für verschiedene Aspekte des 
 Lebens und der Gesundheit stehen. \n\n10 Übungseinheiten\n\nKursgebühr:\
 nTSG-Mitglieder: 35 €\nNichtmitglieder: 45 €\n\nÜbungsleiterin:\nNing
  Voss (Annie)\n\nFür diesen Kurs ist eine Anmeldung in der Geschäftsstel
 le erforderlich. Die Anmeldung ist ab 29.07.2025 möglich.\n
CATEGORIES:Kurse
LOCATION:Alois Jung Sporthalle\, Carl-Bosch-Straße 18a\, Maxdorf\, Rheinla
 nd-Pfalz\, 67133\, Deutschland
X-APPLE-STRUCTURED-LOCATION;VALUE=URI;X-ADDRESS=Carl-Bosch-Straße 18a\, Ma
 xdorf\, Rheinland-Pfalz\, 67133\, Deutschland;X-APPLE-RADIUS=100;X-TITLE=A
 lois Jung Sporthalle:geo:0,0
END:VEVENT
BEGIN:VTIMEZONE
TZID:Europe/Berlin
X-LIC-LOCATION:Europe/Berlin
BEGIN:DAYLIGHT
DTSTART:20250330T030000
TZOFFSETFROM:+0100
TZOFFSETTO:+0200
TZNAME:CEST
END:DAYLIGHT
END:VTIMEZONE
END:VCALENDAR